BEGIN:VCALENDAR
VERSION:2.0
X-WR-CALNAME:EventsCalendar
BEGIN:VEVENT
CATEGORIES:<br />
<b>Deprecated</b>:  implode(): Passing glue string after array is deprecated. Swap the parameters in <b>/tmp/php-events-calendar/views/5259795ebfa33071995ecedd29a8e18ff40b7f63.php</b> on line <b>58</b><br />
Category,Community Events,Location,Main Campus
DESCRIPTION:The Upstate Eight Conference Art Show is an annual event showcasing student artwork from high schools in the&amp;nbsp;Upstate Eight Conference athletic conference. The exhibition is juried and features selected works in&amp;nbsp;Drawing, Painting, Ceramics/Pottery, Mixed Media/Printmaking, Sculpture/Jewelry, Photography, Digital Photography, Digital Illustration, Digital Art/Graphic Design, and Time Arts. The exhibition will be on view February 13th - March 8th in the Renner Gallery Walk of Building C on Elgin Community College&#039;s main campus.&amp;nbsp;
DTSTAMP:20260421T050033
DTSTART:20260308T090000
DTEND:20260308T110000
LOCATION:Main Campus
SUMMARY;LANGUAGE=en-us:2026 Upstate Eight High School Art Exhibition
UID:45aadf47a1b4346f98c71c482f800582@www.elgin.edu
END:VEVENT
END:VCALENDAR

