BEGIN:VCALENDAR
VERSION:2.0
X-WR-CALNAME:EventsCalendar
BEGIN:VEVENT
CATEGORIES:<br />
<b>Deprecated</b>:  implode(): Passing glue string after array is deprecated. Swap the parameters in <b>/tmp/php-events-calendar/views/5259795ebfa33071995ecedd29a8e18ff40b7f63.php</b> on line <b>58</b><br />
Category,Arts Center,Location,Main Campus
DESCRIPTION:Ryan &amp;amp; Ryan is a dynamic father-son piano duo that blends classic and contemporary music into an enthralling concert experience. From Rachmaninoff to Gershwin to Billy Joel, Donald and Barron Ryan combine their talents to create a dazzling blend of old and new. Well-versed in classical, jazz, Ragtime, and funk, audiences everywhere have been thrilled by their rendition of Rachmaninoff&amp;rsquo;s Second Suite for Two Pianos, and George Gershwin&amp;rsquo;s Rhapsody in Blue continues to garner enthusiastic standing ovations everywhere. Ryan &amp;amp; Ryan is a proven hit with audiences of all generations. To sum it up, they make music that inspires.
DTSTAMP:20260422T052220
DTSTART:20250208T190000
DTEND:20250208T210000
LOCATION:Main Campus
SUMMARY;LANGUAGE=en-us:&quot;Going Gershwin&quot; by Ryan &amp; Ryan
UID:68d9db7219182e09b653f2ffed9ef130@www.elgin.edu
END:VEVENT
END:VCALENDAR

